BEGIN:VCALENDAR
VERSION:2.0
PRODID:-//FC HILL JOIS - ECPv6.6.3//NONSGML v1.0//EN
CALSCALE:GREGORIAN
METHOD:PUBLISH
X-ORIGINAL-URL:https://fchilljois.at
X-WR-CALDESC:Veranstaltungen für FC HILL JOIS
REFRESH-INTERVAL;VALUE=DURATION:PT1H
X-Robots-Tag:noindex
X-PUBLISHED-TTL:PT1H
BEGIN:VTIMEZONE
TZID:Europe/Vienna
BEGIN:DAYLIGHT
TZOFFSETFROM:+0100
TZOFFSETTO:+0200
TZNAME:CEST
DTSTART:20240331T010000
END:DAYLIGHT
BEGIN:STANDARD
TZOFFSETFROM:+0200
TZOFFSETTO:+0100
TZNAME:CET
DTSTART:20241027T010000
END:STANDARD
BEGIN:DAYLIGHT
TZOFFSETFROM:+0100
TZOFFSETTO:+0200
TZNAME:CEST
DTSTART:20250330T010000
END:DAYLIGHT
BEGIN:STANDARD
TZOFFSETFROM:+0200
TZOFFSETTO:+0100
TZNAME:CET
DTSTART:20251026T010000
END:STANDARD
END:VTIMEZONE
BEGIN:VEVENT
DTSTART;TZID=Europe/Vienna:20241005T090000
DTEND;TZID=Europe/Vienna:20241005T180000
DTSTAMP:20260421T182313
CREATED:20240905T073543Z
LAST-MODIFIED:20240905T164621Z
UID:42957-1728118800-1728151200@fchilljois.at
SUMMARY:FC HILL JOIS Nachwuchstag
DESCRIPTION:
URL:https://fchilljois.at/event/fc-hill-jois-nachwuchstag/
CATEGORIES:Nachwuchs
END:VEVENT
BEGIN:VEVENT
DTSTART;VALUE=DATE:20240816
DTEND;VALUE=DATE:20250608
DTSTAMP:20260421T182313
CREATED:20240826T181103Z
LAST-MODIFIED:20240905T174532Z
UID:42928-1723766400-1749340799@fchilljois.at
SUMMARY:FC HILL JOIS Saisonkarte 2024/2025
DESCRIPTION:Hol dir jetzt die FC HILL JOIS Saisonkarte 2024/2025 und verpasse kein Heimspiel in der Arena Jois. Mit einem gratis Getränk pro Heimspiel.
URL:https://fchilljois.at/event/fc-hill-jois-saisonkarte-2024-2025/
LOCATION:Arena Jois\, Am Sportplatz 1\, Jois\, Burgenland\, 7093\, Österreich
CATEGORIES:2. Klasse Burgenland Nord
END:VEVENT
BEGIN:VEVENT
DTSTART;TZID=Europe/Vienna:20240615T100000
DTEND;TZID=Europe/Vienna:20240615T170000
DTSTAMP:20260421T182313
CREATED:20240519T080020Z
LAST-MODIFIED:20240519T160453Z
UID:41493-1718445600-1718470800@fchilljois.at
SUMMARY:1. BILLA und FCHILL JOIS Mädchen Fussball Cup
DESCRIPTION:Der 1. BILLA und FCHILL JOIS Mädchen Fussball Cup am Samstag\, 15. Juni 2024\, ab 10:00 Uhr am Spotplatz 1\, 7093 Jois
URL:https://fchilljois.at/event/1-billa-und-fchill-jois-maedchen-fussball-cup/
LOCATION:Arena Jois\, Am Sportplatz 1\, Jois\, Burgenland\, 7093\, Österreich
CATEGORIES:1. BILLA und FC HILL JOIS Mädchen Fußball Cup
END:VEVENT
BEGIN:VEVENT
DTSTART;TZID=Europe/Vienna:20240608T100000
DTEND;TZID=Europe/Vienna:20240608T190000
DTSTAMP:20260421T182313
CREATED:20240520T071854Z
LAST-MODIFIED:20240520T071941Z
UID:41505-1717840800-1717873200@fchilljois.at
SUMMARY:Fußballclub Jois - Nachwuchstag
DESCRIPTION:Am Samstag\, den 08. Juni 2024\, ab 10:00 Uhr am Spotplatz 1\, 7093 Jois findet der Joiser Nachwuchstag statt. Turniere der Altersklassen U7\, U8\, U9\, U12 und U15 werden geboten.
URL:https://fchilljois.at/event/fussballclub-jois-nachwuchstag/
LOCATION:Arena Jois\, Am Sportplatz 1\, Jois\, Burgenland\, 7093\, Österreich
CATEGORIES:Nachwuchs
END:VEVENT
BEGIN:VEVENT
DTSTART;TZID=Europe/Vienna:20240601T173000
DTEND;TZID=Europe/Vienna:20240601T200000
DTSTAMP:20260421T182313
CREATED:20240512T204542Z
LAST-MODIFIED:20240512T204612Z
UID:40482-1717263000-1717272000@fchilljois.at
SUMMARY:FC HILL JOIS - STOTZING
DESCRIPTION:24. Runde – Das Heimspiel am 01.06.2024 um 17:30 Uhr des FC HILL JOIS gegen STOTZING in der Arena Jois.
URL:https://fchilljois.at/event/fc-hill-jois-stotzing/
LOCATION:Arena Jois\, Am Sportplatz 1\, Jois\, Burgenland\, 7093\, Österreich
CATEGORIES:2. Klasse Burgenland Nord
END:VEVENT
BEGIN:VEVENT
DTSTART;TZID=Europe/Vienna:20240511T173000
DTEND;TZID=Europe/Vienna:20240511T193000
DTSTAMP:20260421T182313
CREATED:20240510T185623Z
LAST-MODIFIED:20240510T193147Z
UID:40379-1715448600-1715455800@fchilljois.at
SUMMARY:FC HILL JOIS - OSLIP
DESCRIPTION:22. Runde – Das Heimspiel am 11.05.2024 um 17:30 Uhr des FC HILL JOIS gegen OSLIP in der Arena Jois.
URL:https://fchilljois.at/event/22-runde-jois-oslip-2-klasse-burgenland-nord/
LOCATION:Arena Jois\, Am Sportplatz 1\, Jois\, Burgenland\, 7093\, Österreich
CATEGORIES:2. Klasse Burgenland Nord
ATTACH;FMTTYPE=image/jpeg:https://fchilljois.at/wp-content/uploads/2024/03/event_02.jpg
END:VEVENT
END:VCALENDAR